BEGIN:VCALENDAR
VERSION:2.0
PRODID:-//eventon.com NONSGML v1.0//EN
CALSCALE:GREGORIAN
METHOD:PUBLISH
BEGIN:VEVENT
UID:69e4eac260087
DTSTAMP:20260419T144626Z
DTSTART:20241005
DTEND:20241006
LOCATION:
SUMMARY:PIERWSZA SOBOTA
DESCRIPTION:ZAPRASZAMY DO GIETRZWAŁDU Szczegóły TUTAJ\nhttps://motoiskra
 milosierdzia.pl/events/pierwsza-sobota-18/
URL:https://motoiskramilosierdzia.pl/events/pierwsza-sobota-18/
END:VEVENT
END:VCALENDAR